BEGIN:VCALENDAR
VERSION:2.0
PRODID:-//New Edinburgh - ECPv6.15.20//NONSGML v1.0//EN
CALSCALE:GREGORIAN
METHOD:PUBLISH
X-ORIGINAL-URL:https://newedinburgh.ca
X-WR-CALDESC:Events for New Edinburgh
REFRESH-INTERVAL;VALUE=DURATION:PT1H
X-Robots-Tag:noindex
X-PUBLISHED-TTL:PT1H
BEGIN:VTIMEZONE
TZID:America/Toronto
BEGIN:DAYLIGHT
TZOFFSETFROM:-0500
TZOFFSETTO:-0400
TZNAME:EDT
DTSTART:20220313T070000
END:DAYLIGHT
BEGIN:STANDARD
TZOFFSETFROM:-0400
TZOFFSETTO:-0500
TZNAME:EST
DTSTART:20221106T060000
END:STANDARD
BEGIN:DAYLIGHT
TZOFFSETFROM:-0500
TZOFFSETTO:-0400
TZNAME:EDT
DTSTART:20230312T070000
END:DAYLIGHT
BEGIN:STANDARD
TZOFFSETFROM:-0400
TZOFFSETTO:-0500
TZNAME:EST
DTSTART:20231105T060000
END:STANDARD
BEGIN:DAYLIGHT
TZOFFSETFROM:-0500
TZOFFSETTO:-0400
TZNAME:EDT
DTSTART:20240310T070000
END:DAYLIGHT
BEGIN:STANDARD
TZOFFSETFROM:-0400
TZOFFSETTO:-0500
TZNAME:EST
DTSTART:20241103T060000
END:STANDARD
END:VTIMEZONE
BEGIN:VEVENT
DTSTART;TZID=America/Toronto:20230528T083000
DTEND;TZID=America/Toronto:20230528T123000
DTSTAMP:20260420T095601
CREATED:20230504T230429Z
LAST-MODIFIED:20230517T193141Z
UID:6129-1685262600-1685277000@newedinburgh.ca
SUMMARY:Ottawa Marathon Cheering Station (CCC)
DESCRIPTION:The New Edinburgh Cheering Station is back on course with the support of the Crichton Community Council’s (https://newedinburgh.ca/ccc/) volunteers and the cooperation of Mackay United Church. Join us to welcome thousands of participants in this year’s Ottawa Marathon!  Come to the Cheering Station located on MacKay Street this year due to the construction on Stanley Avenue.The New Edinburgh Cheering Station is strategically located between kilometre 35 and 36\, on MacKay Street between Dufferin Road and Keefer Street.  The leg between kilometre 35 and 36 of the 42.2 km course will run down MacKay Street this year.  (The traditional route through the neighbourhood has been modified because of the construction on Stanley between Union and Sussex.). \nCome and be amazed at the athleticism of the early morning elite runners. Stay on through the morning to support those who are moving at a slower pace. Together\, we’ll energize runners with all kinds of positive encouragement as they head into the challenges of the final 7 kilometres of the marathon: music; sign making; face painting; sidewalk chalk; noise makers; personalized words of encouragement amplified to runners as they pass; coffee and treats for the early risers; freezies and other refreshments later on; indoor public washrooms on site. \n\n\nThe elite runners should make their first pass by the neighbourhood\, heading west along Sussex\, around 8:25 a.m..  More than 5\,000 runners will follow them.  The fastest of the pack will return to the neighbourhood from Beechwood around 8:45 a.m. (after looping around Rockcliffe and Manor Park). \nGive runners some positive memories of the several minutes they’ll spend in New Edinburgh.  Show our neighbourhood’s pride.  Bring your most positive energy to the cheering station on MacKay Street\, near Dufferin Road.  Loud words of encouragement\, noise makers\, signs and costumes are all welcome. \nBy 10:00 a.m. all of the elite runners will have long finished the race\, but those that remain on course need your support!  Given that most people run a marathon in about 4.5 hours\, at about 10:45 a.m. the hordes will be passing the cheering station on MacKay . \nThe last 7 km of a marathon are the most difficult for many people.  Let’s rally to raise the spirits of all participants\, many of whom may be in the midst of one of the most difficult challenges they have ever undertaken. \nMore information about the Ottawa Marathon can be found here: https://www.runottawa.ca/races-and-events/ottawa-marathon
URL:https://newedinburgh.ca/event/ottawa-marathon-cheering-station-ccc/
LOCATION:255 MacKay Street\, 255 MacKay Street\, Ottawa
ORGANIZER;CN="Crichton Community Council":MAILTO:CrichtonCommunityCouncil@gmail.com
END:VEVENT
BEGIN:VEVENT
DTSTART;TZID=America/Toronto:20230528T130000
DTEND;TZID=America/Toronto:20230528T130000
DTSTAMP:20260420T095601
CREATED:20230326T170026Z
LAST-MODIFIED:20230326T170026Z
UID:6082-1685278800-1685278800@newedinburgh.ca
SUMMARY:Beechwood Cemetery Stroll
DESCRIPTION:Beechwood\, the National Cemetery of Canada\, hosts a guided historical tour through its grounds\, 280 Beechwood Ave. Rain or shine at 1 p.m. The stroll is led by trained volunteers and focuses on local history and notable features and sections within this National Historic Site. This free\, family friendly stroll is a gentle 1.5–2 hour walk and is wheelchair accessible. Wear suitable clothing. Register online at beechwoodottawa.ca.
URL:https://newedinburgh.ca/event/beechwood-cemetery-stroll-2/
LOCATION:Beechwood Cemetary\, 280 Beechwood Avenue\, Ottawa\, ON\, K1L 8A6\, Canada
END:VEVENT
END:VCALENDAR