BEGIN:VCALENDAR
VERSION:2.0
PRODID:-//New Edinburgh - ECPv6.15.20//NONSGML v1.0//EN
CALSCALE:GREGORIAN
METHOD:PUBLISH
X-WR-CALNAME:New Edinburgh
X-ORIGINAL-URL:https://newedinburgh.ca
X-WR-CALDESC:Events for New Edinburgh
REFRESH-INTERVAL;VALUE=DURATION:PT1H
X-Robots-Tag:noindex
X-PUBLISHED-TTL:PT1H
BEGIN:VTIMEZONE
TZID:America/Toronto
BEGIN:DAYLIGHT
TZOFFSETFROM:-0500
TZOFFSETTO:-0400
TZNAME:EDT
DTSTART:20220313T070000
END:DAYLIGHT
BEGIN:STANDARD
TZOFFSETFROM:-0400
TZOFFSETTO:-0500
TZNAME:EST
DTSTART:20221106T060000
END:STANDARD
BEGIN:DAYLIGHT
TZOFFSETFROM:-0500
TZOFFSETTO:-0400
TZNAME:EDT
DTSTART:20230312T070000
END:DAYLIGHT
BEGIN:STANDARD
TZOFFSETFROM:-0400
TZOFFSETTO:-0500
TZNAME:EST
DTSTART:20231105T060000
END:STANDARD
BEGIN:DAYLIGHT
TZOFFSETFROM:-0500
TZOFFSETTO:-0400
TZNAME:EDT
DTSTART:20240310T070000
END:DAYLIGHT
BEGIN:STANDARD
TZOFFSETFROM:-0400
TZOFFSETTO:-0500
TZNAME:EST
DTSTART:20241103T060000
END:STANDARD
END:VTIMEZONE
BEGIN:VEVENT
DTSTART;TZID=America/Toronto:20230513T090000
DTEND;TZID=America/Toronto:20230513T130000
DTSTAMP:20260420T191359
CREATED:20220705T191135Z
LAST-MODIFIED:20250109T012333Z
UID:5742-1683968400-1683982800@newedinburgh.ca
SUMMARY:Garden Day & Plant Sale (CCC)
DESCRIPTION:The Crichton Community Council in New Edinburgh invite you to the New Edinburgh Garden Sale on Saturday May 13th\, 2023 from 9:00 AM – 1:00 PM at New Edinburgh Park at 203 Stanley Avenue\, Ottawa. \nFor more than 20 years New Edinburgh residents have purchased their plants on the Fieldhouse’s front lawn the Saturday before Mother’s Day.  This spring the event is evolving to feature a speaker series on the lawn of the Fieldhouse: \n9:00 AM – Mélanie Ouellette from the Ottawa Wildflower Seed Library promoting the local native seed ‘library’ exchange program \n9:30 AM – Tina Liu\, Landscape Architect and head of the NCC Floral Program on edible/productive gardening \n10:30 AM – Sarah Coulber with the Canadian Wildlife Federation on the importance of pollinator gardens (mailto:Federationsarahc@cwf-fcf.org) \n11:30AM – Brian Holley\, horticulturalist\, from the Canadensis Botanical Garden (previously at RBG\, Cleveland and Naples Florida Botanical Gardens) providing expert gardening advice in a Question and Answer format.  Bring your questions! \nVarious Community Groups will be staffing information tables\, including: \nNora Lee with Wild Pollinators that provides education and resources to support and coordinate pollinator gardens \nSocial Harvest that runs an urban farm out of Rideau High School contributing to the  Good Box Food Program out of Rideau-Rockcliffe Community Resource Centre. \nFerme Lève-Tot will be selling edible plants for your gardens and answering questions about Community Supported Agriculture. \nThe Crichton Community Council will be selling a limited number of unique hanging baskets and planters from Les Serres Oli-Ève. \nThe CCC will be recruiting kids to help rejuvenate the park’s flower bed by planting new native plants.  We will also be planting vines at the base of the walls of the concrete storage shed.  A few holes need to be dug for new trees to be planted in the park.  Bring your kids\, some small shovels and gloves! \nEnjoy the event by savouring world-renown (or at least should be) treats and coffee brought to you by New Edinburgh’s own Union Street Café \nReturn to the Fieldhouse later on in the day to watch a film classic\, “Little Shop of Horrors”\, featuring a giant plant who demands to be fed. \nHope to see you there! \n  \n*** \n  \nGarden Day at the New Edinburgh Park Fieldhouse\, 203 Stanley Ave. \nOn Saturday\, May 13\, Garden Day at the New Edinburgh Park Fieldhouse will add to the traditional plant sale.  Come with your wagon\, your wallet and your gardening questions! Proceeds support Crichton Community Council (CCC) events and programs.  \nStay for a variety of speakers: edible gardening; pollinator gardens; questions for a master gardener; and\, Canadensis – the proposed Ottawa Botanical Garden. \nThere is no cost to participate. \nUnion Street Café will be on site with coffee and their delicious treats for sale. \nLater on in the day return to the Fieldhouse to watch a film classic “Little Shop of Horrors” featuring a giant plant who demands to be fed. \nEnjoy a series of speakers\, question and answer forums\, information tables and a garden bed ready to be planted out by children. \nThe CCC is a volunteer organization that provides seasonal programs and ongoing community service in New Edinburgh. Since its establishment in 1993\, the CCC has worked to enhance New Edinburgh’s sense of community by activating the public spaces New Edinburgh Park on the bank of the Rideau River. The CCC acts as the steward of the New Edinburgh Fieldhouse and the surrounding public spaces\, on behalf of the City of Ottawa\, in the interest of New Edinburgh residents.
URL:https://newedinburgh.ca/event/garden-day-ccc/
LOCATION:New Edinburgh Park Fieldhouse\, 203 Stanley Avenue\, Ottawa\, Ontario\, Canada
CATEGORIES:Crichton Community Council
END:VEVENT
END:VCALENDAR