BEGIN:VCALENDAR
VERSION:2.0
PRODID:-//New Edinburgh - ECPv6.15.20//NONSGML v1.0//EN
CALSCALE:GREGORIAN
METHOD:PUBLISH
X-WR-CALNAME:New Edinburgh
X-ORIGINAL-URL:https://newedinburgh.ca
X-WR-CALDESC:Events for New Edinburgh
REFRESH-INTERVAL;VALUE=DURATION:PT1H
X-Robots-Tag:noindex
X-PUBLISHED-TTL:PT1H
BEGIN:VTIMEZONE
TZID:America/Toronto
BEGIN:DAYLIGHT
TZOFFSETFROM:-0500
TZOFFSETTO:-0400
TZNAME:EDT
DTSTART:20220313T070000
END:DAYLIGHT
BEGIN:STANDARD
TZOFFSETFROM:-0400
TZOFFSETTO:-0500
TZNAME:EST
DTSTART:20221106T060000
END:STANDARD
BEGIN:DAYLIGHT
TZOFFSETFROM:-0500
TZOFFSETTO:-0400
TZNAME:EDT
DTSTART:20230312T070000
END:DAYLIGHT
BEGIN:STANDARD
TZOFFSETFROM:-0400
TZOFFSETTO:-0500
TZNAME:EST
DTSTART:20231105T060000
END:STANDARD
BEGIN:DAYLIGHT
TZOFFSETFROM:-0500
TZOFFSETTO:-0400
TZNAME:EDT
DTSTART:20240310T070000
END:DAYLIGHT
BEGIN:STANDARD
TZOFFSETFROM:-0400
TZOFFSETTO:-0500
TZNAME:EST
DTSTART:20241103T060000
END:STANDARD
END:VTIMEZONE
BEGIN:VEVENT
DTSTART;TZID=America/Toronto:20230422T140000
DTEND;TZID=America/Toronto:20230422T160000
DTSTAMP:20260419T233533
CREATED:20230325T211651Z
LAST-MODIFIED:20230325T211651Z
UID:6069-1682172000-1682179200@newedinburgh.ca
SUMMARY:Park Clean-Up Day
DESCRIPTION:The New Edinburgh Community Alliance’s Friends of the Park committee hosts a clean-up event in New Edinburgh Park. Meet us behind the fieldhouse (203 Stanley Ave.) to pick up gloves and bags provided by the City’s Clean Up the Capital program. Rain date: Apr. 23\, 2–4 p.m.
URL:https://newedinburgh.ca/event/park-clean-up-day-2/
LOCATION:New Edinburgh Park Fieldhouse\, 203 Stanley Avenue\, Ottawa\, Ontario\, Canada
END:VEVENT
BEGIN:VEVENT
DTSTART;TZID=America/Toronto:20230422T090000
DTEND;TZID=America/Toronto:20230422T130000
DTSTAMP:20260419T233533
CREATED:20230325T212038Z
LAST-MODIFIED:20230325T212038Z
UID:6071-1682154000-1682168400@newedinburgh.ca
SUMMARY:Free tax clinic
DESCRIPTION:MP Mona Fortier and MPP Lucille Collard host a free tax clinic at their offices on 237 Montreal Rd. from 9 a.m.–1 p.m. To book an appointment please call 613-744-4484.
URL:https://newedinburgh.ca/event/free-tax-clinic/
LOCATION:237 Montreal Rd\, 237 Montreal Rd\, Ottawa\, Ontario\, Canada
END:VEVENT
BEGIN:VEVENT
DTSTART;TZID=America/Toronto:20230421T080000
DTEND;TZID=America/Toronto:20230423T170000
DTSTAMP:20260419T233533
CREATED:20230325T211510Z
LAST-MODIFIED:20230325T211510Z
UID:6065-1682064000-1682269200@newedinburgh.ca
SUMMARY:Ontario Welsh Festival
DESCRIPTION:The Ontario Gymanfa Ganu Association hosts the Ontario Welsh Festival from April 21-23 at Hilton Garden Inn\, 361 Queen St. featuring concerts by Welsh performers and a hymn sing at Christ Church Cathedral on Apr. 23. \nontariowelshfestival.ca. info2023@ontariowelshfestival.ca.
URL:https://newedinburgh.ca/event/ontario-welsh-festival/
LOCATION:Hilton Garden Inn\, 361 Queen St.\, Ottawa\, Ontario\, Canada
END:VEVENT
END:VCALENDAR