BEGIN:VCALENDAR
VERSION:2.0
PRODID:-//New Edinburgh - ECPv6.15.20//NONSGML v1.0//EN
CALSCALE:GREGORIAN
METHOD:PUBLISH
X-ORIGINAL-URL:https://newedinburgh.ca
X-WR-CALDESC:Events for New Edinburgh
REFRESH-INTERVAL;VALUE=DURATION:PT1H
X-Robots-Tag:noindex
X-PUBLISHED-TTL:PT1H
BEGIN:VTIMEZONE
TZID:America/Toronto
BEGIN:DAYLIGHT
TZOFFSETFROM:-0500
TZOFFSETTO:-0400
TZNAME:EDT
DTSTART:20250309T070000
END:DAYLIGHT
BEGIN:STANDARD
TZOFFSETFROM:-0400
TZOFFSETTO:-0500
TZNAME:EST
DTSTART:20251102T060000
END:STANDARD
BEGIN:DAYLIGHT
TZOFFSETFROM:-0500
TZOFFSETTO:-0400
TZNAME:EDT
DTSTART:20260308T070000
END:DAYLIGHT
BEGIN:STANDARD
TZOFFSETFROM:-0400
TZOFFSETTO:-0500
TZNAME:EST
DTSTART:20261101T060000
END:STANDARD
BEGIN:DAYLIGHT
TZOFFSETFROM:-0500
TZOFFSETTO:-0400
TZNAME:EDT
DTSTART:20270314T070000
END:DAYLIGHT
BEGIN:STANDARD
TZOFFSETFROM:-0400
TZOFFSETTO:-0500
TZNAME:EST
DTSTART:20271107T060000
END:STANDARD
END:VTIMEZONE
BEGIN:VEVENT
DTSTART;TZID=America/Toronto:20260919T080000
DTEND;TZID=America/Toronto:20260919T120000
DTSTAMP:20260422T173017
CREATED:20260422T210624Z
LAST-MODIFIED:20260422T210624Z
UID:8165-1789804800-1789819200@newedinburgh.ca
SUMMARY:New Edinburgh Neighbourhood Sale (CCC)
DESCRIPTION:The New Edinburgh Neighbourhood Sale will take place this year on Saturday\, September 20 from 8:00 am until 12:00 pm.  Homeowners\, condominium groups\, religious congregations\, businesses\, non-profit organizations and artists are encouraged to hold sales on private property throughout New Edinburgh. \nThe area around the Fieldhouse will be a busy sales centre since the weekly market coincides with the neighbourhood sale.  The Fieldhouse washrooms and water fountain will be open for everyone’s convenience. \nNeighbourhood sale vendors are encouraged to sell from private lands in front of their own homes.  Unlike past years\, the CCC will not be renting vendor spaces on the lawn of the New Edinburgh Park Fieldhouse to enable those without public facing properties to participate. \nNon-resident vendors and resident vendors without public facing properties are encouraged to sell from the public lands around the Stanley Avenue bend to create a cluster of activity\, in cooperation with the Beechwood Market’s vendors.  Please note that market vendors have a permit for the use of the triangular east lawn bounded by the Fieldhouse\, the asphalt multi-use path and the riverside pedestrian path.  All vendors must respect any applicable bylaws and are wholly liable for any infractions. \nThe Crichton Community Council (CCC) gratefully collects donations to support neighbourhood events and for the purchase of equipment.  Donations of 10 per cent of sale profits earned by neighbourhood vendors is suggested.  Financial contributions can be made by depositing a cheque in the mailbox near the front door of the Fieldhouse\, or online using this link: https://square.link/u/I1bTGw6g
URL:https://newedinburgh.ca/event/new-edinburgh-neighbourhood-sale-ccc-4/
LOCATION:Ontario
END:VEVENT
END:VCALENDAR