BEGIN:VCALENDAR
VERSION:2.0
PRODID:-//New Edinburgh - ECPv6.15.20//NONSGML v1.0//EN
CALSCALE:GREGORIAN
METHOD:PUBLISH
X-WR-CALNAME:New Edinburgh
X-ORIGINAL-URL:https://newedinburgh.ca
X-WR-CALDESC:Events for New Edinburgh
REFRESH-INTERVAL;VALUE=DURATION:PT1H
X-Robots-Tag:noindex
X-PUBLISHED-TTL:PT1H
BEGIN:VTIMEZONE
TZID:America/Toronto
BEGIN:DAYLIGHT
TZOFFSETFROM:-0500
TZOFFSETTO:-0400
TZNAME:EDT
DTSTART:20220313T070000
END:DAYLIGHT
BEGIN:STANDARD
TZOFFSETFROM:-0400
TZOFFSETTO:-0500
TZNAME:EST
DTSTART:20221106T060000
END:STANDARD
BEGIN:DAYLIGHT
TZOFFSETFROM:-0500
TZOFFSETTO:-0400
TZNAME:EDT
DTSTART:20230312T070000
END:DAYLIGHT
BEGIN:STANDARD
TZOFFSETFROM:-0400
TZOFFSETTO:-0500
TZNAME:EST
DTSTART:20231105T060000
END:STANDARD
BEGIN:DAYLIGHT
TZOFFSETFROM:-0500
TZOFFSETTO:-0400
TZNAME:EDT
DTSTART:20240310T070000
END:DAYLIGHT
BEGIN:STANDARD
TZOFFSETFROM:-0400
TZOFFSETTO:-0500
TZNAME:EST
DTSTART:20241103T060000
END:STANDARD
END:VTIMEZONE
BEGIN:VEVENT
DTSTART;TZID=America/Toronto:20230603T080000
DTEND;TZID=America/Toronto:20230604T170000
DTSTAMP:20260420T063311
CREATED:20230326T170156Z
LAST-MODIFIED:20230326T170156Z
UID:6084-1685779200-1685898000@newedinburgh.ca
SUMMARY:Doors Open Ottawa
DESCRIPTION:The City of Ottawa hosts its annual Doors Open event at various locations across the city from June 3-4. Visit more than 100 significant buildings\, including many that normally charge admission or are closed to the public\, for free. Some in-person and others online. Explore embassies\, breweries\, churches\, museums and other fascinating places during Doors Open Ottawa. Check online for the complete list of participating buildings for this year’s event. Visit ottawa.ca.
URL:https://newedinburgh.ca/event/doors-open-ottawa-5/
LOCATION:Across Ottawa
END:VEVENT
BEGIN:VEVENT
DTSTART;TZID=America/Toronto:20230606T190000
DTEND;TZID=America/Toronto:20230606T190000
DTSTAMP:20260420T063311
CREATED:20230326T170315Z
LAST-MODIFIED:20230326T170315Z
UID:6086-1686078000-1686078000@newedinburgh.ca
SUMMARY:Music and Meditation
DESCRIPTION:Music and Meditation at MacKay United Church \, 39 Dufferin Rd. 7 p.m. For more information on this event\, visit mackayunitedchurch.org
URL:https://newedinburgh.ca/event/music-and-meditation-4/
LOCATION:MacKay United Church\, 39 Dufferin Road\, Ottawa\, Ontario\, K1M 2H3\, Canada
ORGANIZER;CN="MacKay United Church":MAILTO:admin@mackayunitedchurch.com &lt;admin@mackayunitedchurch.com
END:VEVENT
BEGIN:VEVENT
DTSTART;TZID=America/Toronto:20230612T190000
DTEND;TZID=America/Toronto:20230612T193000
DTSTAMP:20260420T063311
CREATED:20230517T014914Z
LAST-MODIFIED:20230517T014914Z
UID:6155-1686596400-1686598200@newedinburgh.ca
SUMMARY:CCC Annual General Meeting
DESCRIPTION:Annual General Meeting of the Crichton Community Council (CCC) \nAgenda: \n\nOpening Remarks\nApproval of the 2022 Crichton Community Council AGM Minutes\nPresident’s Report\nTreasurer’s Report\nComments by Members of the Board of Directors\nElection of Officers\nAdjournment\n\nThe Annual General Meeting will be followed by a regular meeting of the CCC. \nRegular Crichton Community Council meetings are typically held on the second Monday of each month at 7:30 p.m. in the New Edinburgh Park Field House at 203 Stanley Avenue.  All meetings are open to the public. Occasionally meeting times and dates are rescheduled to accommodate the availability of CCC Directors and guests.  Please contact us if there is a topic you would like to discuss with the Board of Directors.
URL:https://newedinburgh.ca/event/ccc-annual-general-meeting-3/
LOCATION:New Edinburgh Park Fieldhouse\, 203 Stanley Avenue\, Ottawa\, Ontario\, Canada
ORGANIZER;CN="Crichton Community Council":MAILTO:CrichtonCommunityCouncil@gmail.com
END:VEVENT
BEGIN:VEVENT
DTSTART;TZID=America/Toronto:20230617T193000
DTEND;TZID=America/Toronto:20230617T213000
DTSTAMP:20260420T063311
CREATED:20230523T180728Z
LAST-MODIFIED:20250808T154522Z
UID:6166-1687030200-1687037400@newedinburgh.ca
SUMMARY:Films at the Fieldhouse: "The Kid" (CCC)
DESCRIPTION:Films at the Fieldhouse present a tribute to silent film comedy. This program will highlight some of the legends of early cinema and will include shorts by Buster Keaton\, Harold Lloyd and Mabel Normand. Following the shorts will be a screening of Charlie Chaplin’s classic feature film\, The Kid. Chaplin’s first full length film\, now considered one of the greatest of the silent era\, turned 100 in 2021. Come early to hear some roaring 20s music while you pick up your free popcorn.
URL:https://newedinburgh.ca/event/films-at-the-fieldhouse-the-kid-ccc/
LOCATION:New Edinburgh Park Fieldhouse\, 203 Stanley Avenue\, Ottawa\, Ontario\, Canada
ORGANIZER;CN="Crichton Community Council":MAILTO:CrichtonCommunityCouncil@gmail.com
END:VEVENT
BEGIN:VEVENT
DTSTART;TZID=America/Toronto:20230620T193000
DTEND;TZID=America/Toronto:20230620T213000
DTSTAMP:20260420T063311
CREATED:20230618T222054Z
LAST-MODIFIED:20230619T184600Z
UID:6226-1687289400-1687296600@newedinburgh.ca
SUMMARY:NECA Board Meeting
DESCRIPTION:All New Edinburgh residents are welcome to attend the board meeting of the New Edinburgh Community Alliance (NECA). Meeting will take place in person at the New Edinburgh Fieldhouse (203 Stanley).  Draft agenda and previous meeting minutes are available here. \nFor those who cannot attend in person\, there is the option of joining remotely: https://us02web.zoom.us/j/83296790518
URL:https://newedinburgh.ca/event/neca-board-meeting-47/
LOCATION:New Edinburgh Park Fieldhouse\, 203 Stanley Ave\, Ottawa\, Ontario\, Canada
ORGANIZER;CN="NECA":MAILTO:newedinburgh@outlook.com
END:VEVENT
END:VCALENDAR