BEGIN:VCALENDAR
VERSION:2.0
PRODID:-//New Edinburgh - ECPv6.15.20//NONSGML v1.0//EN
CALSCALE:GREGORIAN
METHOD:PUBLISH
X-ORIGINAL-URL:https://newedinburgh.ca
X-WR-CALDESC:Events for New Edinburgh
REFRESH-INTERVAL;VALUE=DURATION:PT1H
X-Robots-Tag:noindex
X-PUBLISHED-TTL:PT1H
BEGIN:VTIMEZONE
TZID:America/Toronto
BEGIN:DAYLIGHT
TZOFFSETFROM:-0500
TZOFFSETTO:-0400
TZNAME:EDT
DTSTART:20220313T070000
END:DAYLIGHT
BEGIN:STANDARD
TZOFFSETFROM:-0400
TZOFFSETTO:-0500
TZNAME:EST
DTSTART:20221106T060000
END:STANDARD
BEGIN:DAYLIGHT
TZOFFSETFROM:-0500
TZOFFSETTO:-0400
TZNAME:EDT
DTSTART:20230312T070000
END:DAYLIGHT
BEGIN:STANDARD
TZOFFSETFROM:-0400
TZOFFSETTO:-0500
TZNAME:EST
DTSTART:20231105T060000
END:STANDARD
BEGIN:DAYLIGHT
TZOFFSETFROM:-0500
TZOFFSETTO:-0400
TZNAME:EDT
DTSTART:20240310T070000
END:DAYLIGHT
BEGIN:STANDARD
TZOFFSETFROM:-0400
TZOFFSETTO:-0500
TZNAME:EST
DTSTART:20241103T060000
END:STANDARD
END:VTIMEZONE
BEGIN:VEVENT
DTSTART;TZID=America/Toronto:20230701T090000
DTEND;TZID=America/Toronto:20230701T163000
DTSTAMP:20260420T050346
CREATED:20230509T145522Z
LAST-MODIFIED:20230619T031940Z
UID:6140-1688202000-1688229000@newedinburgh.ca
SUMMARY:Chief Pinesi Day
DESCRIPTION:Chief Pinesi Day is held annually on July 1 in New Edinburgh to celebrate the Algonquin Anishinaabe history of the area. It is an opportunity for learning and reconciliation. \nClick here for the current full schedule of activities: Chief Pinesi Day – 1 July 2023 – Full Program. Registration is required for the Land Tours and Medicine Paddle: Chief_Pinesi_Day.eventbrite.com. \nChief Pinesi Day is organized by the Kichi Sibi Trails group in partnership with the Crichton Community Council and the New Edinburgh Community Alliance.
URL:https://newedinburgh.ca/event/pinesi/
LOCATION:New Edinburgh Park Fieldhouse\, 203 Stanley Avenue\, Ottawa\, Ontario\, Canada
ORGANIZER;CN="Crichton Community Council":MAILTO:CrichtonCommunityCouncil@gmail.com
END:VEVENT
BEGIN:VEVENT
DTSTART;TZID=America/Toronto:20230701T213000
DTEND;TZID=America/Toronto:20230701T220000
DTSTAMP:20260420T050346
CREATED:20230613T104539Z
LAST-MODIFIED:20230613T104539Z
UID:6206-1688247000-1688248800@newedinburgh.ca
SUMMARY:Fireworks at the Park (CCC)
DESCRIPTION:Finish your July 1 celebrations in New Edinburgh Park with a neighbourhood scale fireworks display close to home.  (Alternatively you could head off to LeBreton Flats to celebrate with 50\,000 of your closest friends.)  Wear your red and white.  Wave a flag.  Bring a blanket\, bug repellant and a beverage. \nPlease view the show from the grass slope between the Fieldhouse and the playing field.  The fireworks will be launched from the gravel second base area of the infield. \nThis event may be postponed or cancelled due to inclement weather.
URL:https://newedinburgh.ca/event/fireworks-at-the-park-ccc/
LOCATION:New Edinburgh Park Fieldhouse\, 203 Stanley Avenue\, Ottawa\, Ontario\, Canada
ORGANIZER;CN="Crichton Community Council":MAILTO:CrichtonCommunityCouncil@gmail.com
END:VEVENT
BEGIN:VEVENT
DTSTART;TZID=America/Toronto:20230715T190000
DTEND;TZID=America/Toronto:20230715T203000
DTSTAMP:20260420T050346
CREATED:20230519T171055Z
LAST-MODIFIED:20230519T174317Z
UID:6160-1689447600-1689453000@newedinburgh.ca
SUMMARY:Shakespeare's "Hamlet" in the Park (Fools & CCC)
DESCRIPTION:A Company of Fools is presenting Hamlet\, Shakespeare’s most iconic play\, at New Edinburgh Park on the east lawn of the Fieldhouse. \nTheir fast-paced 90-minute rendition of the Bard’s greatest tragedy will feature disemboweled puppets\, a sword fight to the death\, live underscoring\, and 5 actors taking on 15 different roles. \nJoin the Fools this summer as they delve into the depths of the human experience and have a few laughs along the way. Whether you’re a Shakespeare nerd or this is your first foray with the Bard since high school\, our foolish take on Hamlet has something for everyone. \n\n\n\n\n\n\n\n\n\nBring a lawn chair or blanket\, bug spray\, picnic\, and your sense of humour. \nPay what you can\, with a suggested donation of $20 per person.  Pass-the-hat donations are collected at the end of the performance and can be submitted in the form of cash\, credit card\, cheque\, or bars of gold. \n\n\n\n\n\n\n\n\n  \nAbout Hamlet \nReturning home to attend her father’s funeral\, Hamlet discovers that another ceremony has already taken place: the marriage of her mother to her uncle. That’s right\, her dead father’s brother. When Hamlet is visited by her father’s ghost demanding that she avenge his murder\, Hamlet begins to wonder – is it she who has gone mad or everyone around her? \nThe play takes place in a fairytale-inspired Elsinor\, an extravagant kingdom ruled by the freshly crowned King Claudius. But don’t let its decadent appearance fool you\, there’s something rotten in this fairytale wonderland. \nRe-imagined to feature a female Hamlet\, her feigned madness is a rejection of feminine expectations and an attempt to free herself from a fake world. This is the story of a quest for justice that exposes what happens when a young woman challenges authority. \n\n\n\n\n\n\nAbout the Team \n\n\n\n\nOttawa’s Maryse Fernandes stars as Hamlet and reimagines Shakespeare’s iconic protagonist as a ‘mad young woman’. Micah Jondel DeShazer\, who played Ariel and Caliban in last summer’s production of The Tempest\, stars alongside Maryse as the diabolical King Claudius. \nRounding out the team is Ottawa’s Jacqui Du Toit\, a storyteller and founder of The Origin Arts Centre\, as Queen Gertrude. Fools’ veteran Mitch Rose plays both father and son\, Polonius and Laertes; and Andrea Massoud lends her talents to the roles of Ophelia\, Rosencrantz & Guildenstern\, and Horatio. \nA Company of Fools’ Artistic Director Nicholas Leno and resident designer Vanessa Imeson spearhead the production’s creative team. Fools fans will remember Nicholas and Vanessa’s carnivalesque take on Romeo+Juliet in 2019. \nAbout the Fools \nBest known for our Shakespeare in the Park series\, we tour 90-minute versions of Shakespeare’s hits to parks across Eastern Ontario. \nWe believe that it doesn’t matter where you live\, how much you make\, or how old you are: theatre should be accessible to everyone! All of our performances are for PWYC donations\, family-friendly\, and our touring model means we bring the theatre right to your backyard. \nOver the last 30 years\, we’ve developed our signature foolish approach to staging Shakespeare. We work with a small cast of actors to embody 15 different characters within a production and employ styles of slapstick\, mask\, and puppetry to create a family-friendly experience. We help first-time theatregoers discover their love for live performance through our foolish approach to storytelling! \nThe Deets
URL:https://newedinburgh.ca/event/shakespeares-hamlet-in-the-park-fools-ccc/
LOCATION:New Edinburgh Park Fieldhouse\, 203 Stanley Avenue\, Ottawa\, Ontario\, Canada
ORGANIZER;CN="Crichton Community Council":MAILTO:CrichtonCommunityCouncil@gmail.com
END:VEVENT
BEGIN:VEVENT
DTSTART;TZID=America/Toronto:20230722T193000
DTEND;TZID=America/Toronto:20230722T213000
DTSTAMP:20260420T050346
CREATED:20230523T180849Z
LAST-MODIFIED:20230530T192236Z
UID:6169-1690054200-1690061400@newedinburgh.ca
SUMMARY:Films at the Fieldhouse: "Indiana Jones and the Raiders of the Lost Ark"  (CCC)
DESCRIPTION:Films at the Fieldhouse presents Indiana Jones and the Raiders of the Lost Ark! Indy is back in theaters with the final film of the beloved action saga. Before you go on his last adventure\, join us for his first. In 1981 Harrison Ford\, George Lucas and Steven Spielberg joined forces to create one of cinema’s most iconic characters. Relive all the action\, romance and Oscar Winning Effects (not to mention one of the most memorable scores in all of movies) … just don’t bring any snakes.RATED PG for violence and coarse language. Note\, some scenes may be frightening to younger children.
URL:https://newedinburgh.ca/event/films-at-the-fieldhouse-indiana-jones-and-the-raiders-of-the-lost-ark-ccc/
LOCATION:New Edinburgh Park Fieldhouse\, 203 Stanley Avenue\, Ottawa\, Ontario\, Canada
ORGANIZER;CN="Crichton Community Council":MAILTO:CrichtonCommunityCouncil@gmail.com
END:VEVENT
END:VCALENDAR